Package: RankProd Version: 3.35.0 Command: /Library/Frameworks/R.framework/Resources/bin/R CMD INSTALL RankProd StartedAt: 2025-10-24 15:05:04 -0400 (Fri, 24 Oct 2025) EndedAt: 2025-10-24 15:05:14 -0400 (Fri, 24 Oct 2025) EllapsedTime: 10.4 seconds RetCode: 0 Status: OK