Package: RankProd Version: 3.35.0 Command: /Library/Frameworks/R.framework/Resources/bin/R CMD build --keep-empty-dirs --no-resave-data RankProd StartedAt: 2025-10-24 17:27:15 -0400 (Fri, 24 Oct 2025) EndedAt: 2025-10-24 17:27:22 -0400 (Fri, 24 Oct 2025) EllapsedTime: 7.1 seconds RetCode: 0 Status: OK PackageFile: RankProd_3.35.0.tar.gz PackageFileSize: 777.1 KiB