Package: RankProd Version: 3.35.0 Command: rm -rf RankProd.buildbin-libdir && mkdir RankProd.buildbin-libdir && /Users/biocbuild/BBS/utils/build-universal.sh RankProd_3.35.0.tar.gz /Library/Frameworks/R.framework/Resources/bin/R RankProd.buildbin-libdir StartedAt: 2025-10-24 23:15:25 -0400 (Fri, 24 Oct 2025) EndedAt: 2025-10-24 23:15:28 -0400 (Fri, 24 Oct 2025) EllapsedTime: 3.1 seconds RetCode: 0 Status: OK PackageFile: RankProd_3.35.0.tgz PackageFileSize: 877.3 KiB