Package: RaggedExperiment Version: 1.33.7 Command: /home/biocbuild/bbs-3.22-bioc/R/bin/R CMD build --keep-empty-dirs --no-resave-data --md5 RaggedExperiment StartedAt: 2025-10-24 19:37:43 -0400 (Fri, 24 Oct 2025) EndedAt: 2025-10-24 19:38:18 -0400 (Fri, 24 Oct 2025) EllapsedTime: 35.0 seconds RetCode: 0 Status: OK PackageFile: RaggedExperiment_1.33.7.tar.gz PackageFileSize: 671.2 KiB