Package: RaggedExperiment Version: 1.34.0 Command: rm -rf RaggedExperiment.buildbin-libdir && mkdir RaggedExperiment.buildbin-libdir && /Users/biocbuild/BBS/utils/build-universal.sh RaggedExperiment_1.34.0.tar.gz /Library/Frameworks/R.framework/Resources/bin/R RaggedExperiment.buildbin-libdir StartedAt: 2025-11-10 23:32:26 -0500 (Mon, 10 Nov 2025) EndedAt: 2025-11-10 23:32:36 -0500 (Mon, 10 Nov 2025) EllapsedTime: 10.2 seconds RetCode: 0 Status: OK PackageFile: RaggedExperiment_1.34.0.tgz PackageFileSize: 1.184 MiB