Package: RUVnormalize Version: 1.43.0 Command: /Library/Frameworks/R.framework/Resources/bin/R CMD INSTALL RUVnormalize StartedAt: 2025-10-24 15:24:02 -0400 (Fri, 24 Oct 2025) EndedAt: 2025-10-24 15:24:19 -0400 (Fri, 24 Oct 2025) EllapsedTime: 16.4 seconds RetCode: 0 Status: OK