Package: RUVnormalize Version: 1.43.0 Command: rm -rf RUVnormalize.buildbin-libdir && mkdir RUVnormalize.buildbin-libdir && /Users/biocbuild/BBS/utils/build-universal.sh RUVnormalize_1.43.0.tar.gz /Library/Frameworks/R.framework/Resources/bin/R RUVnormalize.buildbin-libdir StartedAt: 2025-10-25 02:01:09 -0400 (Sat, 25 Oct 2025) EndedAt: 2025-10-25 02:01:18 -0400 (Sat, 25 Oct 2025) EllapsedTime: 9.2 seconds RetCode: 0 Status: OK PackageFile: RUVnormalize_1.43.0.tgz PackageFileSize: 221.1 KiB