Package: RUVnormalize Version: 1.43.0 Command: /Library/Frameworks/R.framework/Resources/bin/R CMD build --keep-empty-dirs --no-resave-data RUVnormalize StartedAt: 2025-10-24 17:35:47 -0400 (Fri, 24 Oct 2025) EndedAt: 2025-10-24 17:35:56 -0400 (Fri, 24 Oct 2025) EllapsedTime: 9.1 seconds RetCode: 0 Status: OK PackageFile: RUVnormalize_1.43.0.tar.gz PackageFileSize: 190.7 KiB