Package: RUVcorr Version: 1.41.0 Command: /home/biocbuild/bbs-3.22-bioc/R/bin/R CMD INSTALL RUVcorr StartedAt: 2025-10-24 15:23:17 -0400 (Fri, 24 Oct 2025) EndedAt: 2025-10-24 15:23:21 -0400 (Fri, 24 Oct 2025) EllapsedTime: 4.2 seconds RetCode: 0 Status: OK