Package: RUVcorr Version: 1.42.0 Command: /Library/Frameworks/R.framework/Resources/bin/R CMD INSTALL RUVcorr StartedAt: 2025-11-03 15:06:54 -0500 (Mon, 03 Nov 2025) EndedAt: 2025-11-03 15:06:56 -0500 (Mon, 03 Nov 2025) EllapsedTime: 1.9 seconds RetCode: 0 Status: OK