Package: RUVcorr Version: 1.42.0 Command: /Library/Frameworks/R.framework/Resources/bin/R CMD build --keep-empty-dirs --no-resave-data RUVcorr StartedAt: 2025-10-31 17:38:54 -0400 (Fri, 31 Oct 2025) EndedAt: 2025-10-31 17:39:15 -0400 (Fri, 31 Oct 2025) EllapsedTime: 21.3 seconds RetCode: 0 Status: OK PackageFile: RUVcorr_1.42.0.tar.gz PackageFileSize: 672.6 KiB