Package: RUVSeq Version: 1.43.0 Command: /home/biocbuild/bbs-3.22-bioc/R/bin/R CMD build --keep-empty-dirs --no-resave-data --md5 RUVSeq StartedAt: 2025-10-24 19:54:58 -0400 (Fri, 24 Oct 2025) EndedAt: 2025-10-24 19:56:33 -0400 (Fri, 24 Oct 2025) EllapsedTime: 94.1 seconds RetCode: 0 Status: OK PackageFile: RUVSeq_1.43.0.tar.gz PackageFileSize: 501.2 KiB