Package: RUVSeq Version: 1.44.0 Command: /Library/Frameworks/R.framework/Resources/bin/R CMD build --keep-empty-dirs --no-resave-data RUVSeq StartedAt: 2025-11-03 18:34:26 -0500 (Mon, 03 Nov 2025) EndedAt: 2025-11-03 18:36:20 -0500 (Mon, 03 Nov 2025) EllapsedTime: 113.3 seconds RetCode: 0 Status: OK PackageFile: RUVSeq_1.44.0.tar.gz PackageFileSize: 495.8 KiB