Package: RUVSeq Version: 1.44.0 Command: rm -rf RUVSeq.buildbin-libdir && mkdir RUVSeq.buildbin-libdir && /Users/biocbuild/BBS/utils/build-universal.sh RUVSeq_1.44.0.tar.gz /Library/Frameworks/R.framework/Resources/bin/R RUVSeq.buildbin-libdir StartedAt: 2025-11-04 02:01:18 -0500 (Tue, 04 Nov 2025) EndedAt: 2025-11-04 02:02:14 -0500 (Tue, 04 Nov 2025) EllapsedTime: 55.3 seconds RetCode: 0 Status: OK PackageFile: RUVSeq_1.44.0.tgz PackageFileSize: 536.7 KiB