Package: RUVSeq Version: 1.43.0 Command: /Library/Frameworks/R.framework/Resources/bin/R CMD build --keep-empty-dirs --no-resave-data RUVSeq StartedAt: 2025-10-24 17:35:50 -0400 (Fri, 24 Oct 2025) EndedAt: 2025-10-24 17:36:30 -0400 (Fri, 24 Oct 2025) EllapsedTime: 40.5 seconds RetCode: 0 Status: OK PackageFile: RUVSeq_1.43.0.tar.gz PackageFileSize: 496 KiB