Package: RUVSeq Version: 1.43.0 Command: rm -rf RUVSeq.buildbin-libdir && mkdir RUVSeq.buildbin-libdir && /Users/biocbuild/BBS/utils/build-universal.sh RUVSeq_1.43.0.tar.gz /Library/Frameworks/R.framework/Resources/bin/R RUVSeq.buildbin-libdir StartedAt: 2025-10-24 23:17:53 -0400 (Fri, 24 Oct 2025) EndedAt: 2025-10-24 23:18:11 -0400 (Fri, 24 Oct 2025) EllapsedTime: 18.4 seconds RetCode: 0 Status: OK PackageFile: RUVSeq_1.43.0.tgz PackageFileSize: 537 KiB