Package: RTopper Version: 1.56.0 Command: /Library/Frameworks/R.framework/Resources/bin/R CMD INSTALL RTopper StartedAt: 2025-11-10 15:07:15 -0500 (Mon, 10 Nov 2025) EndedAt: 2025-11-10 15:07:19 -0500 (Mon, 10 Nov 2025) EllapsedTime: 3.1 seconds RetCode: 0 Status: OK