Package: RTopper Version: 1.56.0 Command: /Library/Frameworks/R.framework/Resources/bin/R CMD build --keep-empty-dirs --no-resave-data RTopper StartedAt: 2025-11-10 17:35:33 -0500 (Mon, 10 Nov 2025) EndedAt: 2025-11-10 17:36:03 -0500 (Mon, 10 Nov 2025) EllapsedTime: 30.3 seconds RetCode: 0 Status: OK PackageFile: RTopper_1.56.0.tar.gz PackageFileSize: 1.348 MiB