Package: RTNsurvival Version: 1.34.0 Command: /home/biocbuild/bbs-3.22-bioc/R/bin/R CMD build --keep-empty-dirs --no-resave-data --md5 RTNsurvival StartedAt: 2025-11-16 19:55:03 -0500 (Sun, 16 Nov 2025) EndedAt: 2025-11-16 19:55:51 -0500 (Sun, 16 Nov 2025) EllapsedTime: 48.0 seconds RetCode: 0 Status: OK PackageFile: RTNsurvival_1.34.0.tar.gz PackageFileSize: 737.3 KiB