Package: RTCGAToolbox Version: 2.39.1 Command: /home/biocbuild/bbs-3.22-bioc/R/bin/R CMD INSTALL RTCGAToolbox StartedAt: 2025-10-24 15:54:41 -0400 (Fri, 24 Oct 2025) EndedAt: 2025-10-24 15:55:05 -0400 (Fri, 24 Oct 2025) EllapsedTime: 24.7 seconds RetCode: 0 Status: OK