Package: RTCGAToolbox Version: 2.39.1 Command: /home/biocbuild/bbs-3.22-bioc/R/bin/R CMD check --install=check:RTCGAToolbox.install-out.txt --library=/home/biocbuild/bbs-3.22-bioc/R/site-library --timings RTCGAToolbox_2.39.1.tar.gz StartedAt: 2025-10-25 03:35:53 -0400 (Sat, 25 Oct 2025) EndedAt: 2025-10-25 03:39:24 -0400 (Sat, 25 Oct 2025) EllapsedTime: 211.2 seconds RetCode: 0 Status: OK CheckDir: RTCGAToolbox.Rcheck Warnings: 0