Package: RTCGAToolbox Version: 2.39.1 Command: /Library/Frameworks/R.framework/Resources/bin/R CMD INSTALL RTCGAToolbox StartedAt: 2025-10-24 15:44:34 -0400 (Fri, 24 Oct 2025) EndedAt: 2025-10-24 15:45:09 -0400 (Fri, 24 Oct 2025) EllapsedTime: 35.1 seconds RetCode: 0 Status: OK