Package: RTCGAToolbox Version: 2.39.1 Command: /Library/Frameworks/R.framework/Resources/bin/R CMD INSTALL RTCGAToolbox StartedAt: 2025-10-24 15:25:10 -0400 (Fri, 24 Oct 2025) EndedAt: 2025-10-24 15:25:19 -0400 (Fri, 24 Oct 2025) EllapsedTime: 9.9 seconds RetCode: 0 Status: OK