Package: RTCGAToolbox Version: 2.39.1 Command: /Library/Frameworks/R.framework/Resources/bin/R CMD build --keep-empty-dirs --no-resave-data RTCGAToolbox StartedAt: 2025-10-24 17:35:11 -0400 (Fri, 24 Oct 2025) EndedAt: 2025-10-24 17:35:30 -0400 (Fri, 24 Oct 2025) EllapsedTime: 19.2 seconds RetCode: 0 Status: OK PackageFile: RTCGAToolbox_2.39.1.tar.gz PackageFileSize: 2.33 MiB