Package: RTCGA Version: 1.40.0 Command: /home/biocbuild/R/R/bin/R CMD INSTALL RTCGA StartedAt: 2025-11-17 21:16:17 -0000 (Mon, 17 Nov 2025) EndedAt: 2025-11-17 21:16:45 -0000 (Mon, 17 Nov 2025) EllapsedTime: 28.0 seconds RetCode: 0 Status: OK