Package: RTCGA Version: 1.40.0 Command: /home/biocbuild/R/R/bin/R CMD build --keep-empty-dirs --no-resave-data RTCGA StartedAt: 2025-11-18 04:39:27 -0000 (Tue, 18 Nov 2025) EndedAt: 2025-11-18 04:39:47 -0000 (Tue, 18 Nov 2025) EllapsedTime: 20.0 seconds RetCode: 0 Status: OK PackageFile: RTCGA_1.40.0.tar.gz PackageFileSize: 2.5 MiB