Package: RTCGA Version: 1.39.0 Command: /home/biocbuild/bbs-3.22-bioc/R/bin/R CMD INSTALL RTCGA StartedAt: 2025-10-27 15:13:18 -0400 (Mon, 27 Oct 2025) EndedAt: 2025-10-27 15:13:29 -0400 (Mon, 27 Oct 2025) EllapsedTime: 10.7 seconds RetCode: 0 Status: OK