Package: RTCGA Version: 1.39.0 Command: /Library/Frameworks/R.framework/Resources/bin/R CMD build --keep-empty-dirs --no-resave-data RTCGA StartedAt: 2025-10-28 18:31:11 -0400 (Tue, 28 Oct 2025) EndedAt: 2025-10-28 18:31:30 -0400 (Tue, 28 Oct 2025) EllapsedTime: 19.5 seconds RetCode: 0 Status: OK PackageFile: RTCGA_1.39.0.tar.gz PackageFileSize: 2.437 MiB