Package: RTCGA Version: 1.39.0 Command: rm -rf RTCGA.buildbin-libdir && mkdir RTCGA.buildbin-libdir && /Users/biocbuild/BBS/utils/build-universal.sh RTCGA_1.39.0.tar.gz /Library/Frameworks/R.framework/Resources/bin/R RTCGA.buildbin-libdir StartedAt: 2025-10-25 02:00:57 -0400 (Sat, 25 Oct 2025) EndedAt: 2025-10-25 02:01:18 -0400 (Sat, 25 Oct 2025) EllapsedTime: 21.9 seconds RetCode: 0 Status: OK PackageFile: RTCGA_1.39.0.tgz PackageFileSize: 2.535 MiB