Package: RTCA Version: 1.61.0 Command: /Library/Frameworks/R.framework/Resources/bin/R CMD INSTALL RTCA StartedAt: 2025-10-24 15:22:01 -0400 (Fri, 24 Oct 2025) EndedAt: 2025-10-24 15:22:12 -0400 (Fri, 24 Oct 2025) EllapsedTime: 10.3 seconds RetCode: 0 Status: OK