Package: RTCA Version: 1.61.0 Command: /Library/Frameworks/R.framework/Resources/bin/R CMD build --keep-empty-dirs --no-resave-data RTCA StartedAt: 2025-10-24 18:33:33 -0400 (Fri, 24 Oct 2025) EndedAt: 2025-10-24 18:33:53 -0400 (Fri, 24 Oct 2025) EllapsedTime: 20.6 seconds RetCode: 0 Status: OK PackageFile: RTCA_1.61.0.tar.gz PackageFileSize: 334 KiB