Package: RTCA Version: 1.61.0 Command: /Library/Frameworks/R.framework/Resources/bin/R CMD INSTALL RTCA StartedAt: 2025-10-26 15:06:49 -0400 (Sun, 26 Oct 2025) EndedAt: 2025-10-26 15:06:50 -0400 (Sun, 26 Oct 2025) EllapsedTime: 1.8 seconds RetCode: 0 Status: OK