Package: RTCA Version: 1.61.0 Command: /Library/Frameworks/R.framework/Resources/bin/R CMD build --keep-empty-dirs --no-resave-data RTCA StartedAt: 2025-10-26 17:47:58 -0400 (Sun, 26 Oct 2025) EndedAt: 2025-10-26 17:48:04 -0400 (Sun, 26 Oct 2025) EllapsedTime: 6.1 seconds RetCode: 0 Status: OK PackageFile: RTCA_1.61.0.tar.gz PackageFileSize: 335.6 KiB