Package: RTCA Version: 1.61.0 Command: rm -rf RTCA.buildbin-libdir && mkdir RTCA.buildbin-libdir && /Users/biocbuild/BBS/utils/build-universal.sh RTCA_1.61.0.tar.gz /Library/Frameworks/R.framework/Resources/bin/R RTCA.buildbin-libdir StartedAt: 2025-10-26 22:46:48 -0400 (Sun, 26 Oct 2025) EndedAt: 2025-10-26 22:46:52 -0400 (Sun, 26 Oct 2025) EllapsedTime: 3.0 seconds RetCode: 0 Status: OK PackageFile: RTCA_1.61.0.tgz PackageFileSize: 596.5 KiB