Package: RSeqAn Version: 1.30.0 Command: rm -rf RSeqAn.buildbin-libdir && mkdir RSeqAn.buildbin-libdir && /Users/biocbuild/BBS/utils/build-universal.sh RSeqAn_1.30.0.tar.gz /Library/Frameworks/R.framework/Resources/bin/R RSeqAn.buildbin-libdir StartedAt: 2025-11-10 23:34:37 -0500 (Mon, 10 Nov 2025) EndedAt: 2025-11-10 23:34:42 -0500 (Mon, 10 Nov 2025) EllapsedTime: 5.1 seconds RetCode: 0 Status: OK PackageFile: RSeqAn_1.30.0.tgz PackageFileSize: 1.713 MiB