Package: RSVSim Version: 1.49.0 Command: /home/biocbuild/bbs-3.22-bioc/R/bin/R CMD INSTALL RSVSim StartedAt: 2025-10-24 16:03:13 -0400 (Fri, 24 Oct 2025) EndedAt: 2025-10-24 16:03:44 -0400 (Fri, 24 Oct 2025) EllapsedTime: 30.6 seconds RetCode: 0 Status: OK