Package: RProtoBufLib Version: 2.21.0 Command: /home/biocbuild/bbs-3.22-bioc/R/bin/R CMD check --install=check:RProtoBufLib.install-out.txt --library=/home/biocbuild/bbs-3.22-bioc/R/site-library --timings RProtoBufLib_2.21.0.tar.gz StartedAt: 2025-10-28 03:30:57 -0400 (Tue, 28 Oct 2025) EndedAt: 2025-10-28 03:31:13 -0400 (Tue, 28 Oct 2025) EllapsedTime: 16.0 seconds RetCode: 0 Status: WARNINGS CheckDir: RProtoBufLib.Rcheck Warnings: 2