Package: RProtoBufLib Version: 2.21.0 Command: /Library/Frameworks/R.framework/Resources/bin/R CMD INSTALL RProtoBufLib StartedAt: 2025-10-24 15:12:50 -0400 (Fri, 24 Oct 2025) EndedAt: 2025-10-24 15:17:24 -0400 (Fri, 24 Oct 2025) EllapsedTime: 274.1 seconds RetCode: 0 Status: OK