Package: RProtoBufLib Version: 2.21.0 Command: /Library/Frameworks/R.framework/Resources/bin/R CMD build --keep-empty-dirs --no-resave-data RProtoBufLib StartedAt: 2025-10-24 18:32:31 -0400 (Fri, 24 Oct 2025) EndedAt: 2025-10-24 18:38:21 -0400 (Fri, 24 Oct 2025) EllapsedTime: 349.8 seconds RetCode: 0 Status: OK PackageFile: RProtoBufLib_2.21.0.tar.gz PackageFileSize: 2.786 MiB