Package: RPA Version: 1.66.0 Command: /home/biocbuild/bbs-3.22-bioc/R/bin/R CMD INSTALL RPA StartedAt: 2025-11-14 15:19:19 -0500 (Fri, 14 Nov 2025) EndedAt: 2025-11-14 15:19:41 -0500 (Fri, 14 Nov 2025) EllapsedTime: 21.4 seconds RetCode: 0 Status: OK