Package: ROntoTools Version: 2.37.0 Command: /home/biocbuild/bbs-3.22-bioc/R/bin/R CMD INSTALL ROntoTools StartedAt: 2025-10-24 15:35:50 -0400 (Fri, 24 Oct 2025) EndedAt: 2025-10-24 15:36:03 -0400 (Fri, 24 Oct 2025) EllapsedTime: 12.5 seconds RetCode: 0 Status: OK