Package: ROntoTools Version: 2.37.0 Command: /home/biocbuild/bbs-3.22-bioc/R/bin/R CMD build --keep-empty-dirs --no-resave-data --md5 ROntoTools StartedAt: 2025-10-24 19:51:52 -0400 (Fri, 24 Oct 2025) EndedAt: 2025-10-24 19:52:30 -0400 (Fri, 24 Oct 2025) EllapsedTime: 38.0 seconds RetCode: 0 Status: OK PackageFile: ROntoTools_2.37.0.tar.gz PackageFileSize: 1.488 MiB