Package: ROntoTools Version: 2.37.0 Command: /Library/Frameworks/R.framework/Resources/bin/R CMD INSTALL ROntoTools StartedAt: 2025-10-24 15:11:26 -0400 (Fri, 24 Oct 2025) EndedAt: 2025-10-24 15:11:31 -0400 (Fri, 24 Oct 2025) EllapsedTime: 4.8 seconds RetCode: 0 Status: OK