Package: ROSeq Version: 1.22.0 Command: /Library/Frameworks/R.framework/Resources/bin/R CMD INSTALL ROSeq StartedAt: 2025-10-30 15:05:27 -0400 (Thu, 30 Oct 2025) EndedAt: 2025-10-30 15:05:55 -0400 (Thu, 30 Oct 2025) EllapsedTime: 28.7 seconds RetCode: 0 Status: OK