Package: ROSeq Version: 1.22.0 Command: /Library/Frameworks/R.framework/Resources/bin/R CMD build --keep-empty-dirs --no-resave-data ROSeq StartedAt: 2025-10-30 18:24:00 -0400 (Thu, 30 Oct 2025) EndedAt: 2025-10-30 18:28:08 -0400 (Thu, 30 Oct 2025) EllapsedTime: 248.1 seconds RetCode: 0 Status: OK PackageFile: ROSeq_1.22.0.tar.gz PackageFileSize: 4.19 MiB