Package: ROSeq Version: 1.22.0 Command: rm -rf ROSeq.buildbin-libdir && mkdir ROSeq.buildbin-libdir && /Users/biocbuild/BBS/utils/build-universal.sh ROSeq_1.22.0.tar.gz /Library/Frameworks/R.framework/Resources/bin/R ROSeq.buildbin-libdir StartedAt: 2025-10-31 01:44:32 -0400 (Fri, 31 Oct 2025) EndedAt: 2025-10-31 01:44:51 -0400 (Fri, 31 Oct 2025) EllapsedTime: 18.4 seconds RetCode: 0 Status: OK PackageFile: ROSeq_1.22.0.tgz PackageFileSize: 7.321 MiB