Package: ROCpAI Version: 1.21.0 Command: /Library/Frameworks/R.framework/Resources/bin/R CMD INSTALL ROCpAI StartedAt: 2025-10-24 15:31:01 -0400 (Fri, 24 Oct 2025) EndedAt: 2025-10-24 15:31:29 -0400 (Fri, 24 Oct 2025) EllapsedTime: 27.9 seconds RetCode: 0 Status: OK