Package: ROCpAI Version: 1.21.0 Command: /Library/Frameworks/R.framework/Resources/bin/R CMD build --keep-empty-dirs --no-resave-data ROCpAI StartedAt: 2025-10-24 18:31:48 -0400 (Fri, 24 Oct 2025) EndedAt: 2025-10-24 18:32:30 -0400 (Fri, 24 Oct 2025) EllapsedTime: 41.2 seconds RetCode: 0 Status: OK PackageFile: ROCpAI_1.21.0.tar.gz PackageFileSize: 426.8 KiB