Package: RNAseqCovarImpute Version: 1.7.0 Command: /home/biocbuild/bbs-3.22-bioc/R/bin/R CMD INSTALL RNAseqCovarImpute StartedAt: 2025-10-24 15:22:39 -0400 (Fri, 24 Oct 2025) EndedAt: 2025-10-24 15:22:48 -0400 (Fri, 24 Oct 2025) EllapsedTime: 9.3 seconds RetCode: 0 Status: OK