Package: RNAmodR Version: 1.24.0 Command: /Library/Frameworks/R.framework/Resources/bin/R CMD INSTALL RNAmodR StartedAt: 2025-11-03 15:46:51 -0500 (Mon, 03 Nov 2025) EndedAt: 2025-11-03 15:48:31 -0500 (Mon, 03 Nov 2025) EllapsedTime: 99.6 seconds RetCode: 0 Status: OK